BEGIN:VCALENDAR
VERSION:2.0
PRODID:-//Nature Song Montessori - ECPv6.15.18//NONSGML v1.0//EN
CALSCALE:GREGORIAN
METHOD:PUBLISH
X-WR-CALNAME:Nature Song Montessori
X-ORIGINAL-URL:https://naturesongmontessori.com
X-WR-CALDESC:Events for Nature Song Montessori
REFRESH-INTERVAL;VALUE=DURATION:PT1H
X-Robots-Tag:noindex
X-PUBLISHED-TTL:PT1H
BEGIN:VTIMEZONE
TZID:UTC
BEGIN:STANDARD
TZOFFSETFROM:+0000
TZOFFSETTO:+0000
TZNAME:UTC
DTSTART:20220101T000000
END:STANDARD
END:VTIMEZONE
BEGIN:VEVENT
DTSTART;TZID=UTC:20230401T170000
DTEND;TZID=UTC:20230401T190000
DTSTAMP:20260425T204321
CREATED:20230317T114619Z
LAST-MODIFIED:20230317T121512Z
UID:1525-1680368400-1680375600@naturesongmontessori.com
SUMMARY:Nature Song Montessori: Friends and Family Investor Event #1
DESCRIPTION:This invite only Friends and Family Investor Event is the first of it’s kind for NSM.  We will be bringing together our parent community for a night of food and discussion around the potential growth of NSM.\nAgenda:\n5 – 5:20pm: Meet and Greet – This will be a time to reconnect\, grab a frosty beverage and some light appetizers\, all while we give everyone time to settle in. \n5:30 – 6pm: The Pitch – This will be our presentation phase of the night\, with a tasty Italian inspired dinner and wine/cider from our favorite local spots.  Ms. Jessica’s famous chicken/eggplant parmesan will be served with roasted organic veg\, and truffle cacio e pepe.  Our presentation will begin with a tour of where we have been\, and mapping out where we can go with your support. \n6pm – 7pm: The Lively Q&A – This will be your opportunity to speak up\, ask questions and contribute to the grand plan that is the future of Nature Song Montessori. \n6:30 – onward: The Ask – This is the time to sign!  Nice words are wonderful\, and offers of support are great\, but this is the time to commit or discuss ways that you might be willing to support the expansion of your favorite preschool! \nWe really hope to see you\, wine and dine you\, and ultimately have your support as we move forward on the growth of Nature Song Montessori!
URL:https://naturesongmontessori.com/event/nature-song-montessori-friends-and-family-investor-event-1/
LOCATION:Nature Song Montessori\, 21246 NW Cannes Dr.\, Portland\, OR\, 97229
CATEGORIES:2022/23 Calendar,Holidays,Parent and Teacher Workshops
ATTACH;FMTTYPE=image/jpeg:https://naturesongmontessori.com/wp-content/uploads/2023/03/Spring-scaled.jpeg
ORGANIZER;CN="Collin Gabriel":MAILTO:collin@naturesongmontessori.com
END:VEVENT
END:VCALENDAR