BEGIN:VCALENDAR
VERSION:2.0
PRODID:-//Nature Song Montessori - ECPv6.15.18//NONSGML v1.0//EN
CALSCALE:GREGORIAN
METHOD:PUBLISH
X-ORIGINAL-URL:https://naturesongmontessori.com
X-WR-CALDESC:Events for Nature Song Montessori
REFRESH-INTERVAL;VALUE=DURATION:PT1H
X-Robots-Tag:noindex
X-PUBLISHED-TTL:PT1H
BEGIN:VTIMEZONE
TZID:America/Los_Angeles
BEGIN:DAYLIGHT
TZOFFSETFROM:-0800
TZOFFSETTO:-0700
TZNAME:PDT
DTSTART:20230312T100000
END:DAYLIGHT
BEGIN:STANDARD
TZOFFSETFROM:-0700
TZOFFSETTO:-0800
TZNAME:PST
DTSTART:20231105T090000
END:STANDARD
BEGIN:DAYLIGHT
TZOFFSETFROM:-0800
TZOFFSETTO:-0700
TZNAME:PDT
DTSTART:20240310T100000
END:DAYLIGHT
BEGIN:STANDARD
TZOFFSETFROM:-0700
TZOFFSETTO:-0800
TZNAME:PST
DTSTART:20241103T090000
END:STANDARD
BEGIN:DAYLIGHT
TZOFFSETFROM:-0800
TZOFFSETTO:-0700
TZNAME:PDT
DTSTART:20250309T100000
END:DAYLIGHT
BEGIN:STANDARD
TZOFFSETFROM:-0700
TZOFFSETTO:-0800
TZNAME:PST
DTSTART:20251102T090000
END:STANDARD
END:VTIMEZONE
BEGIN:VEVENT
DTSTART;TZID=America/Los_Angeles:20241002T090000
DTEND;TZID=America/Los_Angeles:20241002T223000
DTSTAMP:20260424T134714
CREATED:20240923T044716Z
LAST-MODIFIED:20240923T044757Z
UID:1709-1727859600-1727908200@naturesongmontessori.com
SUMMARY:Plumpers Pumpkin Patch Field Trip
DESCRIPTION:Let’s go explore the farm!  Our first field trip will be to Plumper’s Pumpkin Patch and we can’t wait to see all our students and families!  Please RSVP below if you will attend.
URL:https://naturesongmontessori.com/event/plumpers-pumpkin-patch-field-trip/
ATTACH;FMTTYPE=image/png:https://naturesongmontessori.com/wp-content/uploads/2024/09/plumper-logo-2.png
ORGANIZER;CN="Collin Gabriel":MAILTO:collin@naturesongmontessori.com
END:VEVENT
END:VCALENDAR