BEGIN:VCALENDAR
VERSION:2.0
PRODID:-//Nature Song Montessori - ECPv6.15.18//NONSGML v1.0//EN
CALSCALE:GREGORIAN
METHOD:PUBLISH
X-WR-CALNAME:Nature Song Montessori
X-ORIGINAL-URL:https://naturesongmontessori.com
X-WR-CALDESC:Events for Nature Song Montessori
REFRESH-INTERVAL;VALUE=DURATION:PT1H
X-Robots-Tag:noindex
X-PUBLISHED-TTL:PT1H
BEGIN:VTIMEZONE
TZID:UTC
BEGIN:STANDARD
TZOFFSETFROM:+0000
TZOFFSETTO:+0000
TZNAME:UTC
DTSTART:20240101T000000
END:STANDARD
END:VTIMEZONE
BEGIN:VEVENT
DTSTART;TZID=UTC:20251222T000000
DTEND;TZID=UTC:20260102T235959
DTSTAMP:20260424T084942
CREATED:20170921T235521Z
LAST-MODIFIED:20250828T190813Z
UID:825-1766361600-1767398399@naturesongmontessori.com
SUMMARY:Winter Break
DESCRIPTION:We hope all the families of NSM take a well deserved break\, and spend lots of time with family and friends!  Have a very happy Winter Break!
URL:https://naturesongmontessori.com/event/winter-break-2/
LOCATION:Nature Song Montessori\, 21246 NW Cannes Dr.\, Portland\, OR\, 97229
CATEGORIES:2024/25 Academic Year,Holidays
ATTACH;FMTTYPE=image/jpeg:https://naturesongmontessori.com/wp-content/uploads/2017/09/Winter_Break.jpg
ORGANIZER;CN="Jessica Gabriel":MAILTO:mrs.jessgabriel@gmail.com
END:VEVENT
END:VCALENDAR