BEGIN:VCALENDAR
VERSION:2.0
PRODID:-//Nature Song Montessori - ECPv6.15.18//NONSGML v1.0//EN
CALSCALE:GREGORIAN
METHOD:PUBLISH
X-ORIGINAL-URL:https://naturesongmontessori.com
X-WR-CALDESC:Events for Nature Song Montessori
REFRESH-INTERVAL;VALUE=DURATION:PT1H
X-Robots-Tag:noindex
X-PUBLISHED-TTL:PT1H
BEGIN:VTIMEZONE
TZID:UTC
BEGIN:STANDARD
TZOFFSETFROM:+0000
TZOFFSETTO:+0000
TZNAME:UTC
DTSTART:20250101T000000
END:STANDARD
END:VTIMEZONE
BEGIN:VEVENT
DTSTART;TZID=UTC:20260706T000000
DTEND;TZID=UTC:20260710T235959
DTSTAMP:20260423T163117
CREATED:20170327T074615Z
LAST-MODIFIED:20250827T203745Z
UID:749-1783296000-1783727999@naturesongmontessori.com
SUMMARY:Week 1 - Water Play
DESCRIPTION:This week is all about the amazing aspects of water!  Explore the outdoors with bubbles\, sprinklers\, water pipes\, and splash pads! Mixing\, pouring\, and making a mess is encouraged! Students will participate in a whole host of water-based activities in the wonderful sunshine of July.  Classroom exercises will teach students about the Montessori learning environment as well as grace and courtesy lessons.  Family style lunch will be served on Friday with Beef Sliders\, Sweet Potato Fries and Garden Veggies.
URL:https://naturesongmontessori.com/event/water-dirt-sand-play-field-trip-tba-table-permaculture-farm-sherwood/
LOCATION:Nature Song Montessori\, 21246 NW Cannes Dr.\, Portland\, OR\, 97229
CATEGORIES:2024/25 Academic Year,Summer At Nature Song
ATTACH;FMTTYPE=image/jpeg:https://naturesongmontessori.com/wp-content/uploads/2017/03/Week-1-Water-Fun.jpg
ORGANIZER;CN="Jessica Gabriel":MAILTO:mrs.jessgabriel@gmail.com
END:VEVENT
BEGIN:VEVENT
DTSTART;TZID=UTC:20260713T000000
DTEND;TZID=UTC:20260717T235959
DTSTAMP:20260423T163117
CREATED:20170327T102842Z
LAST-MODIFIED:20250828T184153Z
UID:757-1783900800-1784332799@naturesongmontessori.com
SUMMARY:Week 2 - Sports and Physical Education
DESCRIPTION:Ready\, set\, go for the goal! Nature Song students will develop those larger muscles with coordination and balance\, experiencing the joy of team sports through positive reinforcement and developmentally appropriate games. Children will experience a wide range of outdoor activities\, which will encourage positive social interaction\, communication\, and team work. We will focus on basic games like soccer\, tennis\, and frisbee\, with obstacle courses and character building activities as well! Go team!
URL:https://naturesongmontessori.com/event/sports-physical-education-soccer-shots/
LOCATION:Nature Song Montessori\, 21246 NW Cannes Dr.\, Portland\, OR\, 97229
CATEGORIES:2024/25 Academic Year,Summer At Nature Song
ATTACH;FMTTYPE=image/jpeg:https://naturesongmontessori.com/wp-content/uploads/2017/03/Week2_Sports.jpg
ORGANIZER;CN="Jessica Gabriel":MAILTO:mrs.jessgabriel@gmail.com
END:VEVENT
BEGIN:VEVENT
DTSTART;TZID=UTC:20260720T000000
DTEND;TZID=UTC:20260724T235959
DTSTAMP:20260423T163117
CREATED:20170327T114243Z
LAST-MODIFIED:20250828T184245Z
UID:768-1784505600-1784937599@naturesongmontessori.com
SUMMARY:Week 3 - STEAM Fun
DESCRIPTION:Kids love hands on science and this week we will explore fun and simple experiments that will lay the basic foundations for Science\, Technology\, Engineering\, Art\, and Mathematics. We will gather materials\, observe\, reflect\, ask questions\, and experiment. Topics will range from basic principals of Astronomy\, Botany\, Anatomy\, Chemistry\, Physics\, Art Technique\, and Zoology. These lessons are meant to encourage a sense of wonder for the world and a lifetime of discovery! Be prepared for your little ones to amaze you with questions like “We know our legs lift us up\, but what pulls us back down?”
URL:https://naturesongmontessori.com/event/mad-science-experiments/
LOCATION:Nature Song Montessori\, 21246 NW Cannes Dr.\, Portland\, OR\, 97229
CATEGORIES:2024/25 Academic Year,Summer At Nature Song
ATTACH;FMTTYPE=image/jpeg:https://naturesongmontessori.com/wp-content/uploads/2017/03/Week3_STEAM.jpg
ORGANIZER;CN="Jessica Gabriel":MAILTO:mrs.jessgabriel@gmail.com
END:VEVENT
BEGIN:VEVENT
DTSTART;TZID=UTC:20260727T000000
DTEND;TZID=UTC:20260731T235959
DTSTAMP:20260423T163117
CREATED:20170327T071912Z
LAST-MODIFIED:20250828T184321Z
UID:744-1785110400-1785542399@naturesongmontessori.com
SUMMARY:Week 4 - Nature Based Art
DESCRIPTION:For our fourth week of the Summer program\, children will engage in outdoor sensorial and art activities using natural materials like sticks\, rocks\, flowers\, leaves\, fruits\, vegetables\, etc.  We will observe insects\, watch the metamorphosis of a caterpillar\, as well as many other activities designed to understand the forms of life.  We look forward to bringing out the artist in your child as they explore their curiosity and creative side in nature\, and you will be amazed at all the wonderful projects created just for you!
URL:https://naturesongmontessori.com/event/garden-outdoor-art/
LOCATION:Nature Song Montessori\, 21246 NW Cannes Dr.\, Portland\, OR\, 97229
CATEGORIES:2024/25 Academic Year,Summer At Nature Song
ATTACH;FMTTYPE=image/jpeg:https://naturesongmontessori.com/wp-content/uploads/2017/03/Week4_NatureBasedArt.jpg
ORGANIZER;CN="Jessica Gabriel":MAILTO:mrs.jessgabriel@gmail.com
END:VEVENT
END:VCALENDAR