BEGIN:VCALENDAR
VERSION:2.0
PRODID:-//Nature Song Montessori - ECPv6.15.18//NONSGML v1.0//EN
CALSCALE:GREGORIAN
METHOD:PUBLISH
X-WR-CALNAME:Nature Song Montessori
X-ORIGINAL-URL:https://naturesongmontessori.com
X-WR-CALDESC:Events for Nature Song Montessori
REFRESH-INTERVAL;VALUE=DURATION:PT1H
X-Robots-Tag:noindex
X-PUBLISHED-TTL:PT1H
BEGIN:VTIMEZONE
TZID:UTC
BEGIN:STANDARD
TZOFFSETFROM:+0000
TZOFFSETTO:+0000
TZNAME:UTC
DTSTART:20250101T000000
END:STANDARD
END:VTIMEZONE
BEGIN:VEVENT
DTSTART;TZID=UTC:20260323T000000
DTEND;TZID=UTC:20260327T235959
DTSTAMP:20260423T144335
CREATED:20170102T063543Z
LAST-MODIFIED:20250828T184853Z
UID:647-1774224000-1774655999@naturesongmontessori.com
SUMMARY:Spring Break (No School)
DESCRIPTION:Have a happy Spring Break\, NSM will be closed from March 24 – 28th.
URL:https://naturesongmontessori.com/event/spring-break-no-school/
LOCATION:Nature Song Montessori\, 21246 NW Cannes Dr.\, Portland\, OR\, 97229
CATEGORIES:2024/25 Academic Year,Holidays
ORGANIZER;CN="Collin Gabriel":MAILTO:collin@naturesongmontessori.com
END:VEVENT
END:VCALENDAR