BEGIN:VCALENDAR
VERSION:2.0
PRODID:-//Nature Song Montessori - ECPv6.15.18//NONSGML v1.0//EN
CALSCALE:GREGORIAN
METHOD:PUBLISH
X-ORIGINAL-URL:https://naturesongmontessori.com
X-WR-CALDESC:Events for Nature Song Montessori
REFRESH-INTERVAL;VALUE=DURATION:PT1H
X-Robots-Tag:noindex
X-PUBLISHED-TTL:PT1H
BEGIN:VTIMEZONE
TZID:UTC
BEGIN:STANDARD
TZOFFSETFROM:+0000
TZOFFSETTO:+0000
TZNAME:UTC
DTSTART:20250101T000000
END:STANDARD
END:VTIMEZONE
BEGIN:VEVENT
DTSTART;TZID=UTC:20260810T000000
DTEND;TZID=UTC:20260814T235959
DTSTAMP:20260423T155921
CREATED:20170327T083108Z
LAST-MODIFIED:20250828T184422Z
UID:754-1786320000-1786751999@naturesongmontessori.com
SUMMARY:Week 6 - Cooking/Tasting The Harvest
DESCRIPTION:Join us as we apply our lessons learned from the garden and discover what it means to bring the harvest to the table this week. Cooking organic treats and practicing our fine motor skills with real tools from the kitchen will engage our students and help develop their knowledge about where our food comes from.  We will enjoy cooking deliciously fresh organic snacks that will be sent home daily with our young chefs!
URL:https://naturesongmontessori.com/event/cookingtasting-the-harvest/
LOCATION:Nature Song Montessori\, 21246 NW Cannes Dr.\, Portland\, OR\, 97229
CATEGORIES:2024/25 Academic Year,Summer At Nature Song
ATTACH;FMTTYPE=image/jpeg:https://naturesongmontessori.com/wp-content/uploads/2017/03/Cooking_Tasting.jpg
ORGANIZER;CN="Jessica Gabriel":MAILTO:mrs.jessgabriel@gmail.com
END:VEVENT
END:VCALENDAR