BEGIN:VCALENDAR
VERSION:2.0
PRODID:-//Nature Song Montessori - ECPv6.15.18//NONSGML v1.0//EN
CALSCALE:GREGORIAN
METHOD:PUBLISH
X-WR-CALNAME:Nature Song Montessori
X-ORIGINAL-URL:https://naturesongmontessori.com
X-WR-CALDESC:Events for Nature Song Montessori
REFRESH-INTERVAL;VALUE=DURATION:PT1H
X-Robots-Tag:noindex
X-PUBLISHED-TTL:PT1H
BEGIN:VTIMEZONE
TZID:America/Los_Angeles
BEGIN:DAYLIGHT
TZOFFSETFROM:-0800
TZOFFSETTO:-0700
TZNAME:PDT
DTSTART:20230312T100000
END:DAYLIGHT
BEGIN:STANDARD
TZOFFSETFROM:-0700
TZOFFSETTO:-0800
TZNAME:PST
DTSTART:20231105T090000
END:STANDARD
BEGIN:DAYLIGHT
TZOFFSETFROM:-0800
TZOFFSETTO:-0700
TZNAME:PDT
DTSTART:20240310T100000
END:DAYLIGHT
BEGIN:STANDARD
TZOFFSETFROM:-0700
TZOFFSETTO:-0800
TZNAME:PST
DTSTART:20241103T090000
END:STANDARD
BEGIN:DAYLIGHT
TZOFFSETFROM:-0800
TZOFFSETTO:-0700
TZNAME:PDT
DTSTART:20250309T100000
END:DAYLIGHT
BEGIN:STANDARD
TZOFFSETFROM:-0700
TZOFFSETTO:-0800
TZNAME:PST
DTSTART:20251102T090000
END:STANDARD
BEGIN:DAYLIGHT
TZOFFSETFROM:-0800
TZOFFSETTO:-0700
TZNAME:PDT
DTSTART:20260308T100000
END:DAYLIGHT
BEGIN:STANDARD
TZOFFSETFROM:-0700
TZOFFSETTO:-0800
TZNAME:PST
DTSTART:20261101T090000
END:STANDARD
BEGIN:DAYLIGHT
TZOFFSETFROM:-0800
TZOFFSETTO:-0700
TZNAME:PDT
DTSTART:20270314T100000
END:DAYLIGHT
BEGIN:STANDARD
TZOFFSETFROM:-0700
TZOFFSETTO:-0800
TZNAME:PST
DTSTART:20271107T090000
END:STANDARD
END:VTIMEZONE
BEGIN:VTIMEZONE
TZID:UTC
BEGIN:STANDARD
TZOFFSETFROM:+0000
TZOFFSETTO:+0000
TZNAME:UTC
DTSTART:20230101T000000
END:STANDARD
END:VTIMEZONE
BEGIN:VEVENT
DTSTART;TZID=America/Los_Angeles:20260622T000000
DTEND;TZID=America/Los_Angeles:20260705T235959
DTSTAMP:20260425T070506
CREATED:20240310T225202Z
LAST-MODIFIED:20250828T175547Z
UID:1616-1782086400-1783295999@naturesongmontessori.com
SUMMARY:Summer Break
DESCRIPTION:NSM will be closed for Summer break\, from June 22rd through July 4th. Summer session will begin on July 6th.
URL:https://naturesongmontessori.com/event/summer-break/
LOCATION:Nature Song Montessori\, 21246 NW Cannes Dr.\, Portland\, OR\, 97229
CATEGORIES:2024/25 Academic Year
ATTACH;FMTTYPE=image/jpeg:https://naturesongmontessori.com/wp-content/uploads/2017/03/MrsJessica.jpg
ORGANIZER;CN="Collin Gabriel":MAILTO:collin@naturesongmontessori.com
END:VEVENT
BEGIN:VEVENT
DTSTART;TZID=UTC:20240823T120000
DTEND;TZID=UTC:20240823T150000
DTSTAMP:20260425T070506
CREATED:20170102T060621Z
LAST-MODIFIED:20240310T232402Z
UID:638-1724414400-1724425200@naturesongmontessori.com
SUMMARY:8th Annual Harvest Festival - A Community Potluck
DESCRIPTION:The annual Harvest Festival is here again! This will be a community potluck and family event designed to celebrate community and the food that we grow\, and is grown around us. We will provide baked dishes created by our students\, as well as dishes sourced from our garden and farms around us. To top it all off\, we will be playing games designed for little ones and their families.  This is one party you don’t want to miss! \nPlease RSVP below and indicate the dish or food you would like to bring on This Spreadsheet
URL:https://naturesongmontessori.com/event/1st-annual-harvest-festival/
LOCATION:Rock Creek Landing Park\, 21246 NW Cannes Dr.\, Portland\, OR\, 97229\, United States
CATEGORIES:2023/24 Academic Year,Summer At Nature Song
ATTACH;FMTTYPE=image/jpeg:https://naturesongmontessori.com/wp-content/uploads/2017/01/Harvest_Festival_Thumb.jpg
ORGANIZER;CN="Collin Gabriel":MAILTO:collin@naturesongmontessori.com
END:VEVENT
BEGIN:VEVENT
DTSTART;TZID=America/Los_Angeles:20240907T120000
DTEND;TZID=America/Los_Angeles:20240907T150000
DTSTAMP:20260425T070506
CREATED:20240831T004424Z
LAST-MODIFIED:20240831T004820Z
UID:1655-1725710400-1725721200@naturesongmontessori.com
SUMMARY:8th Annual Harvest Festival - A Community Potluck
DESCRIPTION:The annual Harvest Festival is here again! This will be a community potluck and family event designed to celebrate community and the food that we grow\, and is grown around us. We will provide baked dishes created by our students\, as well as dishes sourced from our garden and farms around us. To top it all off\, we will be playing games designed for little ones and their families.  This is one party you don’t want to miss! \nPlease RSVP below and indicate the dish or food you would like to bring on This Spreadsheet
URL:https://naturesongmontessori.com/event/1st-annual-harvest-festival-2/
LOCATION:Rock Creek Landing Park\, 21246 NW Cannes Dr.\, Portland\, OR\, 97229\, United States
CATEGORIES:2024/25 Academic Year,Summer At Nature Song
ATTACH;FMTTYPE=image/jpeg:https://naturesongmontessori.com/wp-content/uploads/2017/01/Harvest_Festival_Thumb.jpg
ORGANIZER;CN="Jessica Gabriel":MAILTO:mrs.jessgabriel@gmail.com
END:VEVENT
BEGIN:VEVENT
DTSTART;TZID=America/Los_Angeles:20240913T173000
DTEND;TZID=America/Los_Angeles:20240913T190000
DTSTAMP:20260425T070506
CREATED:20240830T180552Z
LAST-MODIFIED:20250827T184027Z
UID:1650-1726248600-1726254000@naturesongmontessori.com
SUMMARY:Back to School Night
DESCRIPTION:This will be an informative night meant to outline the Montessori classroom areas\, curriculum throughout the year\, and some of the major holidays and break times. Parent teacher conference sign-ups will be posted\, and we will serve light food and refreshments. Bring questions\, comments\, and suggestions to this no-kiddo event. Can’t wait to see everyone!
URL:https://naturesongmontessori.com/event/back-to-school-night/
LOCATION:Nature Song Montessori\, 21246 NW Cannes Dr.\, Portland\, OR\, 97229
CATEGORIES:2024/25 Academic Year
ATTACH;FMTTYPE=image/jpeg:https://naturesongmontessori.com/wp-content/uploads/2017/09/BackToSchool.jpg
ORGANIZER;CN="Jessica Gabriel":MAILTO:mrs.jessgabriel@gmail.com
END:VEVENT
BEGIN:VEVENT
DTSTART;TZID=America/Los_Angeles:20241002T090000
DTEND;TZID=America/Los_Angeles:20241002T223000
DTSTAMP:20260425T070506
CREATED:20240923T044716Z
LAST-MODIFIED:20240923T044757Z
UID:1709-1727859600-1727908200@naturesongmontessori.com
SUMMARY:Plumpers Pumpkin Patch Field Trip
DESCRIPTION:Let’s go explore the farm!  Our first field trip will be to Plumper’s Pumpkin Patch and we can’t wait to see all our students and families!  Please RSVP below if you will attend.
URL:https://naturesongmontessori.com/event/plumpers-pumpkin-patch-field-trip/
ATTACH;FMTTYPE=image/png:https://naturesongmontessori.com/wp-content/uploads/2024/09/plumper-logo-2.png
ORGANIZER;CN="Collin Gabriel":MAILTO:collin@naturesongmontessori.com
END:VEVENT
BEGIN:VEVENT
DTSTART;TZID=UTC:20251222T000000
DTEND;TZID=UTC:20260102T235959
DTSTAMP:20260425T070506
CREATED:20170921T235521Z
LAST-MODIFIED:20250828T190813Z
UID:825-1766361600-1767398399@naturesongmontessori.com
SUMMARY:Winter Break
DESCRIPTION:We hope all the families of NSM take a well deserved break\, and spend lots of time with family and friends!  Have a very happy Winter Break!
URL:https://naturesongmontessori.com/event/winter-break-2/
LOCATION:Nature Song Montessori\, 21246 NW Cannes Dr.\, Portland\, OR\, 97229
CATEGORIES:2024/25 Academic Year,Holidays
ATTACH;FMTTYPE=image/jpeg:https://naturesongmontessori.com/wp-content/uploads/2017/09/Winter_Break.jpg
ORGANIZER;CN="Jessica Gabriel":MAILTO:mrs.jessgabriel@gmail.com
END:VEVENT
BEGIN:VEVENT
DTSTART;TZID=UTC:20250901T000000
DTEND;TZID=UTC:20250901T235959
DTSTAMP:20260425T070506
CREATED:20170102T062639Z
LAST-MODIFIED:20250828T175139Z
UID:642-1756684800-1756771199@naturesongmontessori.com
SUMMARY:Labor Day (Holiday)
DESCRIPTION:
URL:https://naturesongmontessori.com/event/labor-day-holiday/
CATEGORIES:2024/25 Academic Year,Holidays,Summer At Nature Song
ATTACH;FMTTYPE=image/jpeg:https://naturesongmontessori.com/wp-content/uploads/2017/01/Labor_Day_Small.jpg
END:VEVENT
BEGIN:VEVENT
DTSTART;TZID=America/Los_Angeles:20250925T173000
DTEND;TZID=America/Los_Angeles:20250925T190000
DTSTAMP:20260425T070506
CREATED:20250827T205051Z
LAST-MODIFIED:20250827T205143Z
UID:1843-1758821400-1758826800@naturesongmontessori.com
SUMMARY:Back to School Night
DESCRIPTION:This will be an informative night meant to outline the Montessori classroom areas\, curriculum throughout the year\, and some of the major holidays and break times. Parent teacher conference sign-ups will be posted\, and we will serve light food and refreshments. Bring questions\, comments\, and suggestions to this no-kiddo event. Can’t wait to see everyone!
URL:https://naturesongmontessori.com/event/1843/
CATEGORIES:2025/26 Academic Year
ATTACH;FMTTYPE=image/jpeg:https://naturesongmontessori.com/wp-content/uploads/2017/09/BackToSchool.jpg
ORGANIZER;CN="Nature Song Montessori":MAILTO:collin@naturesongmontessori.com
END:VEVENT
BEGIN:VEVENT
DTSTART;TZID=UTC:20251031T100000
DTEND;TZID=UTC:20251031T103000
DTSTAMP:20260425T070506
CREATED:20170102T065806Z
LAST-MODIFIED:20250828T200001Z
UID:649-1761904800-1761906600@naturesongmontessori.com
SUMMARY:Halloween Parade
DESCRIPTION:Children will arrive to school in their regular clothes and participate in festive games and crafts. At 10:00 am\, We will change into our costumes and do a parade through the neighborhood to prepare the children for their night adventure. When we return to school\, we will change out of costume and transition into our regular lunch time and afternoon routine.
URL:https://naturesongmontessori.com/event/halloween-parade/
LOCATION:Nature Song Montessori\, 21246 NW Cannes Dr.\, Portland\, OR\, 97229
CATEGORIES:2022/23 Calendar,Daytime Events
ATTACH;FMTTYPE=image/jpeg:https://naturesongmontessori.com/wp-content/uploads/2019/01/Sign_Up.jpg
END:VEVENT
BEGIN:VEVENT
DTSTART;TZID=UTC:20251111T000000
DTEND;TZID=UTC:20251111T235959
DTSTAMP:20260425T070506
CREATED:20170922T030729Z
LAST-MODIFIED:20251103T042519Z
UID:845-1762819200-1762905599@naturesongmontessori.com
SUMMARY:Veterans Day
DESCRIPTION:In observance of Veterans Day\, and to honor those who have served\, Nature Song Montessori will be closed on Friday 11/11/24.
URL:https://naturesongmontessori.com/event/memorial-day-2/
LOCATION:Nature Song Montessori\, 21246 NW Cannes Dr.\, Portland\, OR\, 97229
CATEGORIES:2024/25 Academic Year,Holidays
ORGANIZER;CN="Jessica Gabriel":MAILTO:mrs.jessgabriel@gmail.com
END:VEVENT
BEGIN:VEVENT
DTSTART;TZID=UTC:20251124T000000
DTEND;TZID=UTC:20251128T235959
DTSTAMP:20260425T070506
CREATED:20170921T233816Z
LAST-MODIFIED:20250828T175313Z
UID:821-1763942400-1764374399@naturesongmontessori.com
SUMMARY:Thanksgiving Break
DESCRIPTION:This will be a time for family and friends. School will be closed Wed 11/25 through 11/29. We hope all of our families have a wonderful break full of food\, family\, and fun.
URL:https://naturesongmontessori.com/event/thanksgiving-break/
LOCATION:Nature Song Montessori\, 21246 NW Cannes Dr.\, Portland\, OR\, 97229
CATEGORIES:2024/25 Academic Year,Holidays
ORGANIZER;CN="Collin Gabriel":MAILTO:collin@naturesongmontessori.com
END:VEVENT
BEGIN:VEVENT
DTSTART;TZID=UTC:20260101T000000
DTEND;TZID=UTC:20260101T235959
DTSTAMP:20260425T070506
CREATED:20170922T031217Z
LAST-MODIFIED:20250828T191643Z
UID:851-1767225600-1767311999@naturesongmontessori.com
SUMMARY:New Years Day (Holiday)
DESCRIPTION:
URL:https://naturesongmontessori.com/event/new-years-day-holiday/
CATEGORIES:2023/24 Academic Year,Holidays
END:VEVENT
BEGIN:VEVENT
DTSTART;TZID=UTC:20260119T000000
DTEND;TZID=UTC:20260119T235959
DTSTAMP:20260425T070506
CREATED:20161229T111629Z
LAST-MODIFIED:20250828T183935Z
UID:610-1768780800-1768867199@naturesongmontessori.com
SUMMARY:Martin Luther King Day (Holiday)
DESCRIPTION:
URL:https://naturesongmontessori.com/event/martin-luther-king-day-holiday/
LOCATION:Nature Song Montessori\, 21246 NW Cannes Dr.\, Portland\, OR\, 97229
CATEGORIES:2024/25 Academic Year,Holidays
ORGANIZER;CN="Jessica Gabriel":MAILTO:mrs.jessgabriel@gmail.com
END:VEVENT
BEGIN:VEVENT
DTSTART;TZID=UTC:20260216T000000
DTEND;TZID=UTC:20260216T235959
DTSTAMP:20260425T070506
CREATED:20161229T112556Z
LAST-MODIFIED:20250828T184009Z
UID:614-1771200000-1771286399@naturesongmontessori.com
SUMMARY:Presidents Day (Holiday)
DESCRIPTION:NSM will be closed for President’s Day.
URL:https://naturesongmontessori.com/event/presidents-day-holiday/
LOCATION:Nature Song Montessori\, 21246 NW Cannes Dr.\, Portland\, OR\, 97229
CATEGORIES:2024/25 Academic Year,Holidays
ORGANIZER;CN="Collin Gabriel":MAILTO:collin@naturesongmontessori.com
END:VEVENT
BEGIN:VEVENT
DTSTART;TZID=UTC:20260319T000000
DTEND;TZID=UTC:20260320T235959
DTSTAMP:20260425T070506
CREATED:20170921T231344Z
LAST-MODIFIED:20250828T182021Z
UID:815-1773878400-1774051199@naturesongmontessori.com
SUMMARY:Parent Teacher Conferences
DESCRIPTION:Parent Teacher conference sign-ups are in the classroom near the entranceway. This is an opportunity to have 1-on-1 conversations with Ms. Jessica regarding the development of your child. As always we strive to keep the school and home on the same page. Detailed assessments will be provided so that you can review your child’s progress in the key areas of the classroom.
URL:https://naturesongmontessori.com/event/parent-teacher-conferences/
LOCATION:Nature Song Montessori\, 21246 NW Cannes Dr.\, Portland\, OR\, 97229
CATEGORIES:2024/25 Academic Year,Parent and Teacher Workshops
ATTACH;FMTTYPE=image/jpeg:https://naturesongmontessori.com/wp-content/uploads/2017/09/PArent_Teacher_Conferences.jpg
ORGANIZER;CN="Jessica Gabriel":MAILTO:mrs.jessgabriel@gmail.com
END:VEVENT
BEGIN:VEVENT
DTSTART;TZID=UTC:20260323T000000
DTEND;TZID=UTC:20260327T235959
DTSTAMP:20260425T070506
CREATED:20170102T063543Z
LAST-MODIFIED:20250828T184853Z
UID:647-1774224000-1774655999@naturesongmontessori.com
SUMMARY:Spring Break (No School)
DESCRIPTION:Have a happy Spring Break\, NSM will be closed from March 24 – 28th.
URL:https://naturesongmontessori.com/event/spring-break-no-school/
LOCATION:Nature Song Montessori\, 21246 NW Cannes Dr.\, Portland\, OR\, 97229
CATEGORIES:2024/25 Academic Year,Holidays
ORGANIZER;CN="Collin Gabriel":MAILTO:collin@naturesongmontessori.com
END:VEVENT
BEGIN:VEVENT
DTSTART;TZID=UTC:20260525T000000
DTEND;TZID=UTC:20260525T235959
DTSTAMP:20260425T070506
CREATED:20220525T035923Z
LAST-MODIFIED:20250828T172000Z
UID:1395-1779667200-1779753599@naturesongmontessori.com
SUMMARY:Memorial Day
DESCRIPTION:NSM will be closed for Memorial Day.
URL:https://naturesongmontessori.com/event/memorial-day-2-2/
CATEGORIES:2024/25 Academic Year,Holidays
ATTACH;FMTTYPE=image/jpeg:https://naturesongmontessori.com/wp-content/uploads/2022/05/Memorial-Day_Compressed.jpg
END:VEVENT
BEGIN:VEVENT
DTSTART;TZID=UTC:20260619T080000
DTEND;TZID=UTC:20260619T143000
DTSTAMP:20260425T070506
CREATED:20170102T051432Z
LAST-MODIFIED:20250828T183649Z
UID:629-1781856000-1781879400@naturesongmontessori.com
SUMMARY:Last Day of 25/26 School Year
DESCRIPTION:Party and potluck details to be announced and linked in the newsletter.
URL:https://naturesongmontessori.com/event/last-day-school/
LOCATION:Nature Song Montessori\, 21246 NW Cannes Dr.\, Portland\, OR\, 97229
CATEGORIES:2024/25 Academic Year,Holidays
ATTACH;FMTTYPE=image/jpeg:https://naturesongmontessori.com/wp-content/uploads/2017/01/Last_Day_Of_School.jpg
END:VEVENT
BEGIN:VEVENT
DTSTART;TZID=UTC:20260706T000000
DTEND;TZID=UTC:20260710T235959
DTSTAMP:20260425T070507
CREATED:20170327T074615Z
LAST-MODIFIED:20250827T203745Z
UID:749-1783296000-1783727999@naturesongmontessori.com
SUMMARY:Week 1 - Water Play
DESCRIPTION:This week is all about the amazing aspects of water!  Explore the outdoors with bubbles\, sprinklers\, water pipes\, and splash pads! Mixing\, pouring\, and making a mess is encouraged! Students will participate in a whole host of water-based activities in the wonderful sunshine of July.  Classroom exercises will teach students about the Montessori learning environment as well as grace and courtesy lessons.  Family style lunch will be served on Friday with Beef Sliders\, Sweet Potato Fries and Garden Veggies.
URL:https://naturesongmontessori.com/event/water-dirt-sand-play-field-trip-tba-table-permaculture-farm-sherwood/
LOCATION:Nature Song Montessori\, 21246 NW Cannes Dr.\, Portland\, OR\, 97229
CATEGORIES:2024/25 Academic Year,Summer At Nature Song
ATTACH;FMTTYPE=image/jpeg:https://naturesongmontessori.com/wp-content/uploads/2017/03/Week-1-Water-Fun.jpg
ORGANIZER;CN="Jessica Gabriel":MAILTO:mrs.jessgabriel@gmail.com
END:VEVENT
BEGIN:VEVENT
DTSTART;TZID=UTC:20260713T000000
DTEND;TZID=UTC:20260717T235959
DTSTAMP:20260425T070507
CREATED:20170327T102842Z
LAST-MODIFIED:20250828T184153Z
UID:757-1783900800-1784332799@naturesongmontessori.com
SUMMARY:Week 2 - Sports and Physical Education
DESCRIPTION:Ready\, set\, go for the goal! Nature Song students will develop those larger muscles with coordination and balance\, experiencing the joy of team sports through positive reinforcement and developmentally appropriate games. Children will experience a wide range of outdoor activities\, which will encourage positive social interaction\, communication\, and team work. We will focus on basic games like soccer\, tennis\, and frisbee\, with obstacle courses and character building activities as well! Go team!
URL:https://naturesongmontessori.com/event/sports-physical-education-soccer-shots/
LOCATION:Nature Song Montessori\, 21246 NW Cannes Dr.\, Portland\, OR\, 97229
CATEGORIES:2024/25 Academic Year,Summer At Nature Song
ATTACH;FMTTYPE=image/jpeg:https://naturesongmontessori.com/wp-content/uploads/2017/03/Week2_Sports.jpg
ORGANIZER;CN="Jessica Gabriel":MAILTO:mrs.jessgabriel@gmail.com
END:VEVENT
BEGIN:VEVENT
DTSTART;TZID=UTC:20260720T000000
DTEND;TZID=UTC:20260724T235959
DTSTAMP:20260425T070507
CREATED:20170327T114243Z
LAST-MODIFIED:20250828T184245Z
UID:768-1784505600-1784937599@naturesongmontessori.com
SUMMARY:Week 3 - STEAM Fun
DESCRIPTION:Kids love hands on science and this week we will explore fun and simple experiments that will lay the basic foundations for Science\, Technology\, Engineering\, Art\, and Mathematics. We will gather materials\, observe\, reflect\, ask questions\, and experiment. Topics will range from basic principals of Astronomy\, Botany\, Anatomy\, Chemistry\, Physics\, Art Technique\, and Zoology. These lessons are meant to encourage a sense of wonder for the world and a lifetime of discovery! Be prepared for your little ones to amaze you with questions like “We know our legs lift us up\, but what pulls us back down?”
URL:https://naturesongmontessori.com/event/mad-science-experiments/
LOCATION:Nature Song Montessori\, 21246 NW Cannes Dr.\, Portland\, OR\, 97229
CATEGORIES:2024/25 Academic Year,Summer At Nature Song
ATTACH;FMTTYPE=image/jpeg:https://naturesongmontessori.com/wp-content/uploads/2017/03/Week3_STEAM.jpg
ORGANIZER;CN="Jessica Gabriel":MAILTO:mrs.jessgabriel@gmail.com
END:VEVENT
BEGIN:VEVENT
DTSTART;TZID=UTC:20260727T000000
DTEND;TZID=UTC:20260731T235959
DTSTAMP:20260425T070507
CREATED:20170327T071912Z
LAST-MODIFIED:20250828T184321Z
UID:744-1785110400-1785542399@naturesongmontessori.com
SUMMARY:Week 4 - Nature Based Art
DESCRIPTION:For our fourth week of the Summer program\, children will engage in outdoor sensorial and art activities using natural materials like sticks\, rocks\, flowers\, leaves\, fruits\, vegetables\, etc.  We will observe insects\, watch the metamorphosis of a caterpillar\, as well as many other activities designed to understand the forms of life.  We look forward to bringing out the artist in your child as they explore their curiosity and creative side in nature\, and you will be amazed at all the wonderful projects created just for you!
URL:https://naturesongmontessori.com/event/garden-outdoor-art/
LOCATION:Nature Song Montessori\, 21246 NW Cannes Dr.\, Portland\, OR\, 97229
CATEGORIES:2024/25 Academic Year,Summer At Nature Song
ATTACH;FMTTYPE=image/jpeg:https://naturesongmontessori.com/wp-content/uploads/2017/03/Week4_NatureBasedArt.jpg
ORGANIZER;CN="Jessica Gabriel":MAILTO:mrs.jessgabriel@gmail.com
END:VEVENT
BEGIN:VEVENT
DTSTART;TZID=UTC:20260803T000000
DTEND;TZID=UTC:20260807T235959
DTSTAMP:20260425T070507
CREATED:20170327T111454Z
LAST-MODIFIED:20250828T184355Z
UID:760-1785715200-1786147199@naturesongmontessori.com
SUMMARY:Week 5 - Readers Theatre and Talent Show
DESCRIPTION:Bring your favorite book\, musical instrument\, or special talent to school this week and maybe it will open the door for creative story telling\, drama\, or acting.  Early childhood Montessori students enjoy hearing true stories told by their teacher and older classmates. Story telling can nurture the development of self expression through public speaking\, drama\, and performance. Students may create their own performance or play based on a true story. We will sing\, dance and maybe even surprise you with a performance made up by the students.  Here is a glimpse of last year’s project:
URL:https://naturesongmontessori.com/event/readers-theatre-talent-show-special-guest/
LOCATION:Nature Song Montessori\, 21246 NW Cannes Dr.\, Portland\, OR\, 97229
CATEGORIES:2023/24 Academic Year,Summer At Nature Song
ATTACH;FMTTYPE=image/jpeg:https://naturesongmontessori.com/wp-content/uploads/2017/03/Week6_ReadersTheater.jpg
ORGANIZER;CN="Jessica Gabriel":MAILTO:mrs.jessgabriel@gmail.com
END:VEVENT
BEGIN:VEVENT
DTSTART;TZID=UTC:20260810T000000
DTEND;TZID=UTC:20260814T235959
DTSTAMP:20260425T070507
CREATED:20170327T083108Z
LAST-MODIFIED:20250828T184422Z
UID:754-1786320000-1786751999@naturesongmontessori.com
SUMMARY:Week 6 - Cooking/Tasting The Harvest
DESCRIPTION:Join us as we apply our lessons learned from the garden and discover what it means to bring the harvest to the table this week. Cooking organic treats and practicing our fine motor skills with real tools from the kitchen will engage our students and help develop their knowledge about where our food comes from.  We will enjoy cooking deliciously fresh organic snacks that will be sent home daily with our young chefs!
URL:https://naturesongmontessori.com/event/cookingtasting-the-harvest/
LOCATION:Nature Song Montessori\, 21246 NW Cannes Dr.\, Portland\, OR\, 97229
CATEGORIES:2024/25 Academic Year,Summer At Nature Song
ATTACH;FMTTYPE=image/jpeg:https://naturesongmontessori.com/wp-content/uploads/2017/03/Cooking_Tasting.jpg
ORGANIZER;CN="Jessica Gabriel":MAILTO:mrs.jessgabriel@gmail.com
END:VEVENT
BEGIN:VEVENT
DTSTART;TZID=UTC:20260817T000000
DTEND;TZID=UTC:20260821T235959
DTSTAMP:20260425T070507
CREATED:20170327T120838Z
LAST-MODIFIED:20250828T184458Z
UID:771-1786924800-1787356799@naturesongmontessori.com
SUMMARY:Week 7 - Preparing For The Harvest Festival
DESCRIPTION:This week is all about giving thanks to our community.  We will be practicing our grace and courtesy lessons that we have learned throughout the year.  We will prepare baked goods\, make beautiful flower arrangements\, and create beautiful art to display at our end of the Summer Harvest Festival.  Students will create programs to hand out as well as take part in the special jobs that help them feel like they are part of something bigger.  All of our current and former Nature Song Montessori friends and family will be invited to feast their eyes and tastebuds on our student’s hard work. We look forward to seeing you there!
URL:https://naturesongmontessori.com/event/preparing-harvest-festival/
LOCATION:Nature Song Montessori\, 21246 NW Cannes Dr.\, Portland\, OR\, 97229
CATEGORIES:2024/25 Academic Year,Summer At Nature Song
ATTACH;FMTTYPE=image/jpeg:https://naturesongmontessori.com/wp-content/uploads/2017/03/Flower_Arranging.jpg
ORGANIZER;CN="Jessica Gabriel":MAILTO:mrs.jessgabriel@gmail.com
END:VEVENT
BEGIN:VEVENT
DTSTART;TZID=America/Los_Angeles:20260822T120000
DTEND;TZID=America/Los_Angeles:20260822T140000
DTSTAMP:20260425T070507
CREATED:20250816T211207Z
LAST-MODIFIED:20250828T190645Z
UID:1780-1787400000-1787407200@naturesongmontessori.com
SUMMARY:10th Annual Harvest Festival - A Community Potluck
DESCRIPTION:Schedule of EventsRead on for a breakdown of the day\, and a links to add your name to if you can join us.  This event is always a lot of work\, but so very worth it to see and catch up with all of you and our former students. \n\n10- 12:00pm       \n\nNSM Setup at Helvetia Farm (feel free to come by and drop off any food or help set up)\n\n\n12:00 – 1:00pm \n\nFlower Pounding with Ms. Jessica\nIce Cream making – group contribution!\nApple Cider Pressing – Bring a clean container to fill and take home!\n\n\n1pm – 2pm \n\nFamily games\n\nPotato sack races\nThree legged races\nEgg and Spoon Races\n\n\n\n\n2pm – 2:30pm \n\nClean up and Goodbyes\n\n\n\nDuring the event we’ll have a number of activities set up with beamo frisbees\, corn hole\, soccer nets\, foot stomp rockets and refillable water balloons.  Get ready to taste some amazing food\, pressed apple juice\, and mint chocolate chip ice cream! \nThe RSVP for this event is not mandatory\, but does help us plan how many activities need to be put out\, and how to handle the flow of the event.Please RSVP below.In past years\, we have had so many activities demonstrated in our classroom like Algerian fashion shows\, Japanese origami and natsu matsuri\, soap making\, and Czech holiday candle making\, so if anyone would like to participate by adding something to the agenda\, please let us know (no pressure there will already be a lot to do).  Also if you have any flowers from your garden that you would like to bring for the flower pounding activity\, please do.  We welcome all shades and colors that nature provides. \nWhew that was a lot of words!  If this is too last minute of a notification\, we completely understand\, but if you could make the time to join us\, we would love to see you and catch up.  Thank you all so much for the many years of community\, it is the driving force behind this school and has enriched our lives in so so many ways.  We hope everyone’s return to school is awesome\, and we hope to see you Saturday!
URL:https://naturesongmontessori.com/event/1st-annual-harvest-festival-2-2/
LOCATION:Helvetia Market\, 23137 NW West Union Rd\, Hillsboro\, OR\, 97124\, United States
CATEGORIES:2024/25 Academic Year,Summer At Nature Song
ATTACH;FMTTYPE=image/jpeg:https://naturesongmontessori.com/wp-content/uploads/2017/01/Harvest_Festival_Thumb.jpg
ORGANIZER;CN="Collin Gabriel":MAILTO:collin@naturesongmontessori.com
END:VEVENT
END:VCALENDAR