BEGIN:VCALENDAR
VERSION:2.0
PRODID:-//Nature Song Montessori - ECPv6.15.18//NONSGML v1.0//EN
CALSCALE:GREGORIAN
METHOD:PUBLISH
X-WR-CALNAME:Nature Song Montessori
X-ORIGINAL-URL:https://naturesongmontessori.com
X-WR-CALDESC:Events for Nature Song Montessori
REFRESH-INTERVAL;VALUE=DURATION:PT1H
X-Robots-Tag:noindex
X-PUBLISHED-TTL:PT1H
BEGIN:VTIMEZONE
TZID:UTC
BEGIN:STANDARD
TZOFFSETFROM:+0000
TZOFFSETTO:+0000
TZNAME:UTC
DTSTART:20250101T000000
END:STANDARD
END:VTIMEZONE
BEGIN:VTIMEZONE
TZID:America/Los_Angeles
BEGIN:DAYLIGHT
TZOFFSETFROM:-0800
TZOFFSETTO:-0700
TZNAME:PDT
DTSTART:20250309T100000
END:DAYLIGHT
BEGIN:STANDARD
TZOFFSETFROM:-0700
TZOFFSETTO:-0800
TZNAME:PST
DTSTART:20251102T090000
END:STANDARD
BEGIN:DAYLIGHT
TZOFFSETFROM:-0800
TZOFFSETTO:-0700
TZNAME:PDT
DTSTART:20260308T100000
END:DAYLIGHT
BEGIN:STANDARD
TZOFFSETFROM:-0700
TZOFFSETTO:-0800
TZNAME:PST
DTSTART:20261101T090000
END:STANDARD
BEGIN:DAYLIGHT
TZOFFSETFROM:-0800
TZOFFSETTO:-0700
TZNAME:PDT
DTSTART:20270314T100000
END:DAYLIGHT
BEGIN:STANDARD
TZOFFSETFROM:-0700
TZOFFSETTO:-0800
TZNAME:PST
DTSTART:20271107T090000
END:STANDARD
END:VTIMEZONE
BEGIN:VEVENT
DTSTART;TZID=UTC:20260817T000000
DTEND;TZID=UTC:20260821T235959
DTSTAMP:20260423T162945
CREATED:20170327T120838Z
LAST-MODIFIED:20250828T184458Z
UID:771-1786924800-1787356799@naturesongmontessori.com
SUMMARY:Week 7 - Preparing For The Harvest Festival
DESCRIPTION:This week is all about giving thanks to our community.  We will be practicing our grace and courtesy lessons that we have learned throughout the year.  We will prepare baked goods\, make beautiful flower arrangements\, and create beautiful art to display at our end of the Summer Harvest Festival.  Students will create programs to hand out as well as take part in the special jobs that help them feel like they are part of something bigger.  All of our current and former Nature Song Montessori friends and family will be invited to feast their eyes and tastebuds on our student’s hard work. We look forward to seeing you there!
URL:https://naturesongmontessori.com/event/preparing-harvest-festival/
LOCATION:Nature Song Montessori\, 21246 NW Cannes Dr.\, Portland\, OR\, 97229
CATEGORIES:2024/25 Academic Year,Summer At Nature Song
ATTACH;FMTTYPE=image/jpeg:https://naturesongmontessori.com/wp-content/uploads/2017/03/Flower_Arranging.jpg
ORGANIZER;CN="Jessica Gabriel":MAILTO:mrs.jessgabriel@gmail.com
END:VEVENT
BEGIN:VEVENT
DTSTART;TZID=America/Los_Angeles:20260822T120000
DTEND;TZID=America/Los_Angeles:20260822T140000
DTSTAMP:20260423T162945
CREATED:20250816T211207Z
LAST-MODIFIED:20250828T190645Z
UID:1780-1787400000-1787407200@naturesongmontessori.com
SUMMARY:10th Annual Harvest Festival - A Community Potluck
DESCRIPTION:Schedule of EventsRead on for a breakdown of the day\, and a links to add your name to if you can join us.  This event is always a lot of work\, but so very worth it to see and catch up with all of you and our former students. \n\n10- 12:00pm       \n\nNSM Setup at Helvetia Farm (feel free to come by and drop off any food or help set up)\n\n\n12:00 – 1:00pm \n\nFlower Pounding with Ms. Jessica\nIce Cream making – group contribution!\nApple Cider Pressing – Bring a clean container to fill and take home!\n\n\n1pm – 2pm \n\nFamily games\n\nPotato sack races\nThree legged races\nEgg and Spoon Races\n\n\n\n\n2pm – 2:30pm \n\nClean up and Goodbyes\n\n\n\nDuring the event we’ll have a number of activities set up with beamo frisbees\, corn hole\, soccer nets\, foot stomp rockets and refillable water balloons.  Get ready to taste some amazing food\, pressed apple juice\, and mint chocolate chip ice cream! \nThe RSVP for this event is not mandatory\, but does help us plan how many activities need to be put out\, and how to handle the flow of the event.Please RSVP below.In past years\, we have had so many activities demonstrated in our classroom like Algerian fashion shows\, Japanese origami and natsu matsuri\, soap making\, and Czech holiday candle making\, so if anyone would like to participate by adding something to the agenda\, please let us know (no pressure there will already be a lot to do).  Also if you have any flowers from your garden that you would like to bring for the flower pounding activity\, please do.  We welcome all shades and colors that nature provides. \nWhew that was a lot of words!  If this is too last minute of a notification\, we completely understand\, but if you could make the time to join us\, we would love to see you and catch up.  Thank you all so much for the many years of community\, it is the driving force behind this school and has enriched our lives in so so many ways.  We hope everyone’s return to school is awesome\, and we hope to see you Saturday!
URL:https://naturesongmontessori.com/event/1st-annual-harvest-festival-2-2/
LOCATION:Helvetia Market\, 23137 NW West Union Rd\, Hillsboro\, OR\, 97124\, United States
CATEGORIES:2024/25 Academic Year,Summer At Nature Song
ATTACH;FMTTYPE=image/jpeg:https://naturesongmontessori.com/wp-content/uploads/2017/01/Harvest_Festival_Thumb.jpg
ORGANIZER;CN="Collin Gabriel":MAILTO:collin@naturesongmontessori.com
END:VEVENT
END:VCALENDAR