BEGIN:VCALENDAR
VERSION:2.0
PRODID:-//Nature Song Montessori - ECPv6.15.18//NONSGML v1.0//EN
CALSCALE:GREGORIAN
METHOD:PUBLISH
X-WR-CALNAME:Nature Song Montessori
X-ORIGINAL-URL:https://naturesongmontessori.com
X-WR-CALDESC:Events for Nature Song Montessori
REFRESH-INTERVAL;VALUE=DURATION:PT1H
X-Robots-Tag:noindex
X-PUBLISHED-TTL:PT1H
BEGIN:VTIMEZONE
TZID:UTC
BEGIN:STANDARD
TZOFFSETFROM:+0000
TZOFFSETTO:+0000
TZNAME:UTC
DTSTART:20220101T000000
END:STANDARD
END:VTIMEZONE
BEGIN:VEVENT
DTSTART;TZID=UTC:20230303T180000
DTEND;TZID=UTC:20230303T190000
DTSTAMP:20260425T204357
CREATED:20230202T030539Z
LAST-MODIFIED:20230225T032935Z
UID:1503-1677866400-1677870000@naturesongmontessori.com
SUMMARY:Summer Program and Future Plans Meeting
DESCRIPTION:Hey Everyone! \nThis Event is designed for members of the NSM community to meet and discuss our upcoming Summer program\, the 2023/24 School Year\, as well as plans for the future of our school.  This event is restricted to currently enrolled families\, as well as families on the wait list for next year.  Light refreshments and tasty bites will be available and this is a parent only night of discussion.  We look forward to seeing everyone! \nPS \nIf you cannot attend in person\, you may attend virtually here: https://us02web.zoom.us/j/84359860907?pwd=aDV0dFczZzdIalpMd1JtbWltZFVVZz09
URL:https://naturesongmontessori.com/event/summer-program-and-future-plans-meeting/
LOCATION:Nature Song Montessori\, 21246 NW Cannes Dr.\, Portland\, OR\, 97229
CATEGORIES:2022/23 Calendar
ORGANIZER;CN="Collin Gabriel":MAILTO:collin@naturesongmontessori.com
END:VEVENT
END:VCALENDAR